BEGIN:VCALENDAR
VERSION:2.0
PRODID:-//WGMA - ECPv6.15.20//NONSGML v1.0//EN
CALSCALE:GREGORIAN
METHOD:PUBLISH
X-WR-CALNAME:WGMA
X-ORIGINAL-URL:https://wgma.org.uk
X-WR-CALDESC:Events for WGMA
REFRESH-INTERVAL;VALUE=DURATION:PT1H
X-Robots-Tag:noindex
X-PUBLISHED-TTL:PT1H
BEGIN:VTIMEZONE
TZID:UTC
BEGIN:STANDARD
TZOFFSETFROM:+0000
TZOFFSETTO:+0000
TZNAME:UTC
DTSTART:20230101T000000
END:STANDARD
END:VTIMEZONE
BEGIN:VEVENT
DTSTART;VALUE=DATE:20250405
DTEND;VALUE=DATE:20250406
DTSTAMP:20260420T075149
CREATED:20241129T162641Z
LAST-MODIFIED:20241217T213119Z
UID:1392-1743811200-1743897599@wgma.org.uk
SUMMARY:South-West Quires' Day XXI
DESCRIPTION:South-West Quires’ Day XXI \nSaturday 5th April 2025 \nRuishton Village Hall\, Cheats Road\, Ruishton near Taunton\, TA3 5JD.\nWe welcome singers and instrumentalists to a day of West Gallery music associated with the South West.\nThe music will be new to most and learnt at sight aided by the instruments and experienced singers.\nMore details and a booking form are available here: SWQD booking form or contact Jacqueline Patten via email
URL:https://wgma.org.uk/event/south-west-quires-day-xxi/
LOCATION:Ruishton Village Hall\, Cheats Road\, Ruishton near Taunton\, TA3 5JD\, United Kingdom
ORGANIZER;CN="Jacqueline Patten":MAILTO:kerlistz@gmail.com
END:VEVENT
BEGIN:VEVENT
DTSTART;TZID=UTC:20241228T111500
DTEND;TZID=UTC:20241228T160000
DTSTAMP:20260420T075149
CREATED:20241129T160924Z
LAST-MODIFIED:20241129T161505Z
UID:1385-1735384500-1735401600@wgma.org.uk
SUMMARY:Byfield Carols Day
DESCRIPTION:Cross Tree Inn\, Byfield\, Northants. NN11 6XL. \nSaturday 28th December 2025 \nThe Byfield Carols Day runs from 11:15 am – 4:00 pm. There is limited space in The Cross Tree Inn – it has seats enough for 50 and can can offer food to the first 40 that order it. For seat reservations and food orders\, please contact Sheila and Edwin Macadam on 01865 865773 or via email \n 
URL:https://wgma.org.uk/event/byfield-carols-day/
LOCATION:The Cross Tree Inn\, NN11 6XL\, United Kingdom
ORGANIZER;CN="Sheila and Edwin Macadam":MAILTO:shelwin8@tiscali.co.uk
END:VEVENT
END:VCALENDAR