BEGIN:VCALENDAR
VERSION:2.0
PRODID:-//WGMA - ECPv6.15.20//NONSGML v1.0//EN
CALSCALE:GREGORIAN
METHOD:PUBLISH
X-WR-CALNAME:WGMA
X-ORIGINAL-URL:https://wgma.org.uk
X-WR-CALDESC:Events for WGMA
REFRESH-INTERVAL;VALUE=DURATION:PT1H
X-Robots-Tag:noindex
X-PUBLISHED-TTL:PT1H
BEGIN:VTIMEZONE
TZID:UTC
BEGIN:STANDARD
TZOFFSETFROM:+0000
TZOFFSETTO:+0000
TZNAME:UTC
DTSTART:20250101T000000
END:STANDARD
END:VTIMEZONE
BEGIN:VEVENT
DTSTART;TZID=UTC:20260425T100000
DTEND;TZID=UTC:20260425T163000
DTSTAMP:20260425T021738
CREATED:20260203T114002Z
LAST-MODIFIED:20260203T114002Z
UID:2455-1777111200-1777134600@wgma.org.uk
SUMMARY:Mid-Shires Quires Day 2026
DESCRIPTION:Immanuel’s Ground Quire extend a warm invitation to join them in a day of regional West Gallery music\, at Byfield village hall\, Northamptonshire. Cost £12 including a book of music and light refreshments\, bring your own lunch. \nComplete the MSQD booking form 2026 and send to Sheila Macadam.
URL:https://wgma.org.uk/event/mid-shires-quires-day-2026/
LOCATION:Byfield Village Hall\, Byfield Village Hall\, Northants\, NN11 6UT\, United Kingdom
ORGANIZER;CN="Sheila and Edwin Macadam":MAILTO:shelwin8@tiscali.co.uk
END:VEVENT
END:VCALENDAR