BEGIN:VCALENDAR
VERSION:2.0
PRODID:-//WGMA - ECPv6.15.20//NONSGML v1.0//EN
CALSCALE:GREGORIAN
METHOD:PUBLISH
X-WR-CALNAME:WGMA
X-ORIGINAL-URL:https://wgma.org.uk
X-WR-CALDESC:Events for WGMA
REFRESH-INTERVAL;VALUE=DURATION:PT1H
X-Robots-Tag:noindex
X-PUBLISHED-TTL:PT1H
BEGIN:VTIMEZONE
TZID:UTC
BEGIN:STANDARD
TZOFFSETFROM:+0000
TZOFFSETTO:+0000
TZNAME:UTC
DTSTART:20250101T000000
END:STANDARD
END:VTIMEZONE
BEGIN:VEVENT
DTSTART;VALUE=DATE:20260227
DTEND;VALUE=DATE:20260302
DTSTAMP:20260419T135519
CREATED:20251010T125401Z
LAST-MODIFIED:20251010T125401Z
UID:2436-1772150400-1772409599@wgma.org.uk
SUMMARY:The Madding Crowd House Party
DESCRIPTION:A weekend of West Gallery song\, friendship and fun! \nFor details and to book please contact Charlotte Bailey: charlotte@maddingcrowd.org or 01962 713392
URL:https://wgma.org.uk/event/the-madding-crowd-house-party/
LOCATION:Halsway Manor\, Halsway\, Crowcombe\, Somerset\, TA4 4BD\, United Kingdom
ORGANIZER;CN="Charlotte Bailey":MAILTO:charlotte@maddingcrowd.org
END:VEVENT
BEGIN:VEVENT
DTSTART;TZID=UTC:20260308T103000
DTEND;TZID=UTC:20260308T153000
DTSTAMP:20260419T135519
CREATED:20251010T125628Z
LAST-MODIFIED:20251010T125628Z
UID:2438-1772965800-1772983800@wgma.org.uk
SUMMARY:West Gallery Workshop for the Folk Association of South Hants
DESCRIPTION:This is a very popular annual event now in its 14th year \nTo reserve a place: phone Daphne on 07779 818638 or email info@fash.org.uk
URL:https://wgma.org.uk/event/west-gallery-workshop-for-the-folk-association-of-south-hants/
LOCATION:Soberton Village Hall\, Soberton\, Hampshire\, SO32 3PF\, United Kingdom
END:VEVENT
END:VCALENDAR