BEGIN:VCALENDAR
VERSION:2.0
PRODID:-//WGMA - ECPv6.15.20//NONSGML v1.0//EN
CALSCALE:GREGORIAN
METHOD:PUBLISH
X-WR-CALNAME:WGMA
X-ORIGINAL-URL:https://wgma.org.uk
X-WR-CALDESC:Events for WGMA
REFRESH-INTERVAL;VALUE=DURATION:PT1H
X-Robots-Tag:noindex
X-PUBLISHED-TTL:PT1H
BEGIN:VTIMEZONE
TZID:UTC
BEGIN:STANDARD
TZOFFSETFROM:+0000
TZOFFSETTO:+0000
TZNAME:UTC
DTSTART:20240101T000000
END:STANDARD
END:VTIMEZONE
BEGIN:VEVENT
DTSTART;TZID=UTC:20251219T190000
DTEND;TZID=UTC:20251219T210000
DTSTAMP:20260421T114331
CREATED:20251010T125230Z
LAST-MODIFIED:20251010T125230Z
UID:2434-1766170800-1766178000@wgma.org.uk
SUMMARY:The Madding Crowd Christmas Concert\, Hursley
DESCRIPTION:A festive evening with West Gallery and community carols and a Mummers Play – participation encouraged\, instruments and voices welcome! Details at www.maddingcrowd.org and on Facebook: www.facebook.com/TheMaddingCrowdUK
URL:https://wgma.org.uk/event/the-madding-crowd-christmas-concert-hursley/
LOCATION:Hursley Sports and Social Club\, Hursley Park\, Winchester\, SO21 2JN\, United Kingdom
ORGANIZER;CN="Charlotte Bailey":MAILTO:charlotte@maddingcrowd.org
END:VEVENT
END:VCALENDAR