BEGIN:VCALENDAR
VERSION:2.0
PRODID:-//WGMA - ECPv6.15.20//NONSGML v1.0//EN
CALSCALE:GREGORIAN
METHOD:PUBLISH
X-WR-CALNAME:WGMA
X-ORIGINAL-URL:https://wgma.org.uk
X-WR-CALDESC:Events for WGMA
REFRESH-INTERVAL;VALUE=DURATION:PT1H
X-Robots-Tag:noindex
X-PUBLISHED-TTL:PT1H
BEGIN:VTIMEZONE
TZID:UTC
BEGIN:STANDARD
TZOFFSETFROM:+0000
TZOFFSETTO:+0000
TZNAME:UTC
DTSTART:20240101T000000
END:STANDARD
END:VTIMEZONE
BEGIN:VEVENT
DTSTART;TZID=UTC:20251210T190000
DTEND;TZID=UTC:20251210T210000
DTSTAMP:20260421T114330
CREATED:20250910T190718Z
LAST-MODIFIED:20250910T190718Z
UID:2423-1765393200-1765400400@wgma.org.uk
SUMMARY:London Gallery Quire annual Christmas concert
DESCRIPTION:7pm at St George’s Lutheran Chapel\, Alie Street E1 8EB. For more information\, see the quire’s events page.
URL:https://wgma.org.uk/event/london-gallery-quire-annual-christmas-concert/
LOCATION:St George’s Lutheran Chapel\, Alie Street\, London\, E1 8EB\, United Kingdom
ORGANIZER;CN="Phil Price":MAILTO:phil@withcheerfulvoice.org.uk
END:VEVENT
END:VCALENDAR