BEGIN:VCALENDAR
VERSION:2.0
PRODID:-//WGMA - ECPv6.15.20//NONSGML v1.0//EN
CALSCALE:GREGORIAN
METHOD:PUBLISH
X-ORIGINAL-URL:https://wgma.org.uk
X-WR-CALDESC:Events for WGMA
REFRESH-INTERVAL;VALUE=DURATION:PT1H
X-Robots-Tag:noindex
X-PUBLISHED-TTL:PT1H
BEGIN:VTIMEZONE
TZID:UTC
BEGIN:STANDARD
TZOFFSETFROM:+0000
TZOFFSETTO:+0000
TZNAME:UTC
DTSTART:20240101T000000
END:STANDARD
END:VTIMEZONE
BEGIN:VEVENT
DTSTART;TZID=UTC:20251205T193000
DTEND;TZID=UTC:20251205T213000
DTSTAMP:20260419T130301
CREATED:20251010T124806Z
LAST-MODIFIED:20251010T124806Z
UID:2428-1764963000-1764970200@wgma.org.uk
SUMMARY:The Madding Crowd Christmas Concert\, Fordingbridge
DESCRIPTION:Hosted by Fordingbridge folk club. Includes a Mummers play. Details at www.maddingcrowd.org and on Facebook: www.facebook.com/TheMaddingCrowdUK
URL:https://wgma.org.uk/event/the-madding-crowd-christmas-concert-fordingbridge/
LOCATION:Avonway Centre\, 36 Shaftesbury Road\, Fordingbridge\, SP6 1JF\, United Kingdom
ORGANIZER;CN="Charlotte Bailey":MAILTO:charlotte@maddingcrowd.org
END:VEVENT
END:VCALENDAR